BEGIN:VCALENDAR
VERSION:2.0
PRODID:-//DS ACT - ECPv6.15.20//NONSGML v1.0//EN
CALSCALE:GREGORIAN
METHOD:PUBLISH
X-WR-CALNAME:DS ACT
X-ORIGINAL-URL:https://mydsact.org
X-WR-CALDESC:Events for DS ACT
REFRESH-INTERVAL;VALUE=DURATION:PT1H
X-Robots-Tag:noindex
X-PUBLISHED-TTL:PT1H
BEGIN:VTIMEZONE
TZID:America/New_York
BEGIN:DAYLIGHT
TZOFFSETFROM:-0500
TZOFFSETTO:-0400
TZNAME:EDT
DTSTART:20240310T070000
END:DAYLIGHT
BEGIN:STANDARD
TZOFFSETFROM:-0400
TZOFFSETTO:-0500
TZNAME:EST
DTSTART:20241103T060000
END:STANDARD
BEGIN:DAYLIGHT
TZOFFSETFROM:-0500
TZOFFSETTO:-0400
TZNAME:EDT
DTSTART:20250309T070000
END:DAYLIGHT
BEGIN:STANDARD
TZOFFSETFROM:-0400
TZOFFSETTO:-0500
TZNAME:EST
DTSTART:20251102T060000
END:STANDARD
BEGIN:DAYLIGHT
TZOFFSETFROM:-0500
TZOFFSETTO:-0400
TZNAME:EDT
DTSTART:20260308T070000
END:DAYLIGHT
BEGIN:STANDARD
TZOFFSETFROM:-0400
TZOFFSETTO:-0500
TZNAME:EST
DTSTART:20261101T060000
END:STANDARD
BEGIN:DAYLIGHT
TZOFFSETFROM:-0500
TZOFFSETTO:-0400
TZNAME:EDT
DTSTART:20270314T070000
END:DAYLIGHT
BEGIN:STANDARD
TZOFFSETFROM:-0400
TZOFFSETTO:-0500
TZNAME:EST
DTSTART:20271107T060000
END:STANDARD
END:VTIMEZONE
BEGIN:VEVENT
DTSTART;TZID=America/New_York:20251212T180000
DTEND;TZID=America/New_York:20251212T210000
DTSTAMP:20260423T203127
CREATED:20251120T174843Z
LAST-MODIFIED:20251120T174843Z
UID:10000450-1765562400-1765573200@mydsact.org
SUMMARY:2025 21 Strong Holiday Party
DESCRIPTION:2025 Holiday Party and we can’t wait to celebrate with you!\nThis event is limited to active DS ACT members. RSVP is on a first-come\, first-served basis\, with space for 160 guests.  CLICK HERE TO RSVP\n\n\n\n\nIf you need to join or renew your membership\, please visit https://mydsact.org/join-or-renew-your-membership/  For any questions or to request a membership fee waiver due to financial hardship\, please contact Karen Sawyer at ksawyer@mydsact.org \n\n\nSPECIAL GUEST ALERT\nA very special guest is making an appearance!\n\n\nGifts: We kindly ask that parents bring a wrapped gift for each of their children\, clearly labeled with the child’s name. Upon arrival\, please hand the gift to the registration table\, and we will ensure it finds its way into our special guest’s bag.\n\n\n\n\n\nWhile there is no charge for the event\, donations to help offset the cost are greatly appreciated! If you’d like to contribute\, please visit https://mydsact.org/donate/
URL:https://mydsact.org/event/2025-21-strong-holiday-party/
LOCATION:Scandinavian Club\, 1351 South Pine Creek Rd\, Fairfield\, CT\, 06824\, United States
ATTACH;FMTTYPE=image/png:https://mydsact.org/wp-content/uploads/2025/11/Holiday-Party.png
END:VEVENT
BEGIN:VEVENT
DTSTART;TZID=America/New_York:20260321T180000
DTEND;TZID=America/New_York:20260321T220000
DTSTAMP:20260423T203127
CREATED:20251226T205028Z
LAST-MODIFIED:20251226T205028Z
UID:10000451-1774116000-1774130400@mydsact.org
SUMMARY:World Down Syndrome Day Gala
DESCRIPTION:Please join us as we celebrate World Down Syndrome Day and mark the 40th anniversary of the Down Syndrome Association of Connecticut (DS ACT). \nThe Connecticut Down Syndrome Congress (CDSC) was founded in 1986 by a compassionate physician and dedicated parents who sought to create advocacy and social support for individuals with Down syndrome and their families. \nIn 2018\, CDSC was rebranded as the Down Syndrome Association of Connecticut (DS ACT)—a name that reflects our mission to support individuals with Down syndrome across the state more effectively. This transformation has allowed us to expand our advocacy efforts\, enhance community programs\, and connect families to the resources and information they need to thrive. \nOver the past eight years\, DS ACT has strengthened its organization\, increased visibility and accessibility\, and introduced innovative programs that serve our vibrant community. \nWe are thrilled to enter this exciting new chapter and invite you to join us at our World Down Syndrome Day Gala—an evening to meet our board\, honor our volunteers\, connect with community partners\, and\, most importantly\, eat\, dance\, and celebrate together!
URL:https://mydsact.org/event/world-down-syndrome-day-gala/
LOCATION:La Bella Vista\, 380 Farmwood Road\, Waterbury\, CT\, 06795\, United States
CATEGORIES:DS ACT,Fundraiser,World Down Syndrome Day
ATTACH;FMTTYPE=image/png:https://mydsact.org/wp-content/uploads/2025/12/World-Down-Syndrome-Day-Gala.png
ORGANIZER;CN="Down Syndrome Association of Connecticut":MAILTO:info@mydsact.org
END:VEVENT
BEGIN:VEVENT
DTSTART;TZID=America/New_York:20260718T110000
DTEND;TZID=America/New_York:20260718T150000
DTSTAMP:20260423T203127
CREATED:20260316T160717Z
LAST-MODIFIED:20260316T160717Z
UID:10000461-1784372400-1784386800@mydsact.org
SUMMARY:Annual Summer Picnic at Camp Harkness
DESCRIPTION:Save the Date! \nJoin DS ACT at the beautiful beach at Camp Harness for a day of fun with friends and family.  We’ll provide a catered lunch\, live music\, and maybe a few games and crafts.  All you need to bring is your swimsuit\, sand toys\, and sunscreen! \nThis no-cost members-only event is a benefit of your DS ACT membership.  Your membership must be active to register.  If you are unsure of your status\, please email Karen Sawyer. \nRegistration will open in June 2026
URL:https://mydsact.org/event/annual-summer-picnic-at-camp-harkness-2/
LOCATION:Camp Harkness\, 301 Great Neck Rd (Rte 213)\, Waterford\, CT\, CT\, United States
CATEGORIES:DS ACT Members Only
ATTACH;FMTTYPE=image/jpeg:https://mydsact.org/wp-content/uploads/2026/03/2026-Summer-Picnic.jpg
ORGANIZER;CN="Down Syndrome Association of Connecticut":MAILTO:info@mydsact.org
GEO:41.6032207;-73.087749
X-APPLE-STRUCTURED-LOCATION;VALUE=URI;X-ADDRESS=Camp Harkness 301 Great Neck Rd (Rte 213) Waterford CT CT United States;X-APPLE-RADIUS=500;X-TITLE=301 Great Neck Rd (Rte 213):geo:-73.087749,41.6032207
END:VEVENT
END:VCALENDAR