BEGIN:VCALENDAR
VERSION:2.0
PRODID:-//DS ACT - ECPv6.15.20//NONSGML v1.0//EN
CALSCALE:GREGORIAN
METHOD:PUBLISH
X-WR-CALNAME:DS ACT
X-ORIGINAL-URL:https://mydsact.org
X-WR-CALDESC:Events for DS ACT
REFRESH-INTERVAL;VALUE=DURATION:PT1H
X-Robots-Tag:noindex
X-PUBLISHED-TTL:PT1H
BEGIN:VTIMEZONE
TZID:America/New_York
BEGIN:DAYLIGHT
TZOFFSETFROM:-0500
TZOFFSETTO:-0400
TZNAME:EDT
DTSTART:20230312T070000
END:DAYLIGHT
BEGIN:STANDARD
TZOFFSETFROM:-0400
TZOFFSETTO:-0500
TZNAME:EST
DTSTART:20231105T060000
END:STANDARD
BEGIN:DAYLIGHT
TZOFFSETFROM:-0500
TZOFFSETTO:-0400
TZNAME:EDT
DTSTART:20240310T070000
END:DAYLIGHT
BEGIN:STANDARD
TZOFFSETFROM:-0400
TZOFFSETTO:-0500
TZNAME:EST
DTSTART:20241103T060000
END:STANDARD
BEGIN:DAYLIGHT
TZOFFSETFROM:-0500
TZOFFSETTO:-0400
TZNAME:EDT
DTSTART:20250309T070000
END:DAYLIGHT
BEGIN:STANDARD
TZOFFSETFROM:-0400
TZOFFSETTO:-0500
TZNAME:EST
DTSTART:20251102T060000
END:STANDARD
BEGIN:DAYLIGHT
TZOFFSETFROM:-0500
TZOFFSETTO:-0400
TZNAME:EDT
DTSTART:20260308T070000
END:DAYLIGHT
BEGIN:STANDARD
TZOFFSETFROM:-0400
TZOFFSETTO:-0500
TZNAME:EST
DTSTART:20261101T060000
END:STANDARD
END:VTIMEZONE
BEGIN:VEVENT
DTSTART;TZID=America/New_York:20241109T180000
DTEND;TZID=America/New_York:20241109T193000
DTSTAMP:20260425T105353
CREATED:20241031T164610Z
LAST-MODIFIED:20241104T020330Z
UID:10000438-1731175200-1731180600@mydsact.org
SUMMARY:2024 DS ACT Night on the North Pole Express
DESCRIPTION:Note:  THIS IS A MEMBERS ONLY EVENT.  IF YOU ARE UNSURE OF THE STATUS OF YOUR MEMBERSHIP\, EMAIL SHANON MCCORMICK. \nJoin us for a night on the North Pole Express\nThe train leaves the station at 6:00 p.m. We’ll welcome the holiday season with a magical nighttime journey to the North Pole\, including Santa and Mrs. Claus\, festive sing-a-longs\, and sugar cookies. \nPlease plan to arrive by 5:30 so everyone has time to board the train.  Children are invited to wear their favorite pajamas and may want to bring their sound-canceling headphones! \nA link to request tickets will be shared HERE between 7 p.m. and 9 p.m. on SUNDAY\, November 3\, 2024.  Priority will be given to those families who have not attended in recent years.  If you do not receive tickets at the time of your request\, you will be put on a waitlist. \nThe form has closed \n  \n 
URL:https://mydsact.org/event/2024-ds-act-night-on-the-north-pole-express/
LOCATION:Essex Steam Train\, 1 Railroad Ave\, Essex\, CT\, 06426\, United States
ATTACH;FMTTYPE=image/png:https://mydsact.org/wp-content/uploads/2024/10/Untitled-800-x-1200-px-2.png
ORGANIZER;CN="Melody Lehrman":MAILTO:mlehrman@mydsact.org
END:VEVENT
BEGIN:VEVENT
DTSTART;TZID=America/New_York:20241213T180000
DTEND;TZID=America/New_York:20241213T210000
DTSTAMP:20260425T105353
CREATED:20241125T145321Z
LAST-MODIFIED:20241125T155159Z
UID:10000439-1734112800-1734123600@mydsact.org
SUMMARY:2024 Holiday Party - Scandinavian Club in  Fairfield\, CT
DESCRIPTION:2024 Holiday Party and we can’t wait to celebrate with you!\n\n\nThis event is limited to active DS ACT members . RSVP is on a first-come\, first-served basis\, with space for 160 guests.  RSVP HERE: https://www.signupgenius.com/go/10C094CADAE2AA7FA7-51442012-21strong\n\n\nIf you need to join or renew your membership\, please visit https://mydsact.org/join-or-renew-your-membership/  For any questions or to request a membership fee waiver due to financial hardship\, please contact Melody Lehrman at mlehrman@mydsact.org\n\n\nWhile there is no charge for the event\, donations to help offset the cost are greatly appreciated! If you’d like to contribute\, please visit https://mydsact.org/donate/\n\nSPECIAL GUEST ALERT\nA very special guest is making an appearance!\n\n\nGifts: We kindly ask that parents bring a wrapped gift for each of their children\, clearly labeled with the child’s name. Upon arrival\, please hand the gift to the registration table\, and we will ensure it finds its way into our special guest’s bag.\n\n\nWe’re looking for generous donations to make this event extra special. If you know a business that would like to donate\, we can include them in sponsor signage and future communications. We can send you a donation request template that you can customize.\n\n\nWe look forward to celebrating the holidays together!
URL:https://mydsact.org/event/2024-holiday-party-scandinavian-club-in-fairfield-ct/
LOCATION:Scandinavian Club\, 1351 South Pine Creek Rd\, Fairfield\, CT\, 06824\, United States
ATTACH;FMTTYPE=image/png:https://mydsact.org/wp-content/uploads/2024/11/Red-and-White-Modern-Christmas-Holiday-Party-Instagram-Post.png
END:VEVENT
BEGIN:VEVENT
DTSTART;TZID=America/New_York:20250312T190000
DTEND;TZID=America/New_York:20250312T200000
DTSTAMP:20260425T105353
CREATED:20250205T195610Z
LAST-MODIFIED:20250219T194221Z
UID:10000442-1741806000-1741809600@mydsact.org
SUMMARY:Conservatorship\, Guardianship\, Supported Decision Making
DESCRIPTION:When a child with disabilities approaches age 18\, parents and caregivers often find themselves surprised and overwhelmed to learn that they will soon lose the legal right to manage their child’s affairs or make key medical and financial decisions on the child’s behalf. Special Needs Planning is critical to ensure that parents can stay in control\, and access key benefits/resources that will be necessary to ensure a smooth transition into adulthood and beyond. In this workshop\, you will learn how to navigate the complicated world of special needs planning and cover a number of topics:\n\nGuardianship\nConservatorship\nPower of Attorney\nSupported Decision-Making\nEstate Planning and Financial Considerations\n\n\nAnd more!\n\nSee flyer for additional information Webinar Event Information Flyer
URL:https://mydsact.org/event/conservatorship-guardianship-supported-decision-making/
ATTACH;FMTTYPE=image/webp:https://mydsact.org/wp-content/uploads/2025/02/DALL·E-2025-02-05-14.54.18-A-symbolic-representation-of-legal-conservatorship-or-guardianship.-The-image-features-a-pair-of-hands-gently-holding-a-smaller-set-of-hands-symboliz.webp
ORGANIZER;CN="Down Syndrome Association of Connecticut":MAILTO:info@mydsact.org
LOCATION:https://us06web.zoom.us/webinar/register/WN_9S8GOJzpRVG826koX_g0wA
END:VEVENT
BEGIN:VEVENT
DTSTART;TZID=America/New_York:20250313T093000
DTEND;TZID=America/New_York:20250313T233000
DTSTAMP:20260425T105353
CREATED:20250311T163205Z
LAST-MODIFIED:20250311T170235Z
UID:10000445-1741858200-1741908600@mydsact.org
SUMMARY:Coffee Meet Up
DESCRIPTION:Join DS ACT at Beanz & Co in Avon for some coffee and conversation.  Some members of our Education and Outreach Committee will have a table set up in honor of World Down Syndrome Day.  Stop by and say hi\, get some ideas on how you can celebrate.
URL:https://mydsact.org/event/coffee-meet-up/
LOCATION:BeanZ & Co.\, 11 East Main Street\, Avon\, CT\, 06001\, United States
CATEGORIES:Education and Outreach,World Down Syndrome Day
ATTACH;FMTTYPE=image/png:https://mydsact.org/wp-content/uploads/2025/03/Coffee.png
ORGANIZER;CN="Down Syndrome Association of Connecticut":MAILTO:info@mydsact.org
END:VEVENT
BEGIN:VEVENT
DTSTART;TZID=America/New_York:20250319T180000
DTEND;TZID=America/New_York:20250319T190000
DTSTAMP:20260425T105353
CREATED:20250311T170205Z
LAST-MODIFIED:20250311T170205Z
UID:10000446-1742407200-1742410800@mydsact.org
SUMMARY:Planning for special needs
DESCRIPTION:This educational event is designed for our clients and families who wish to learn more about special needs planning. We encourage you to invite anyone who you think may benefit to attend. \nFor additional information\, please refer to the event flyer
URL:https://mydsact.org/event/planning-for-special-needs/
ATTACH;FMTTYPE=image/png:https://mydsact.org/wp-content/uploads/2025/03/Financial-Planning.png
ORGANIZER;CN="Down Syndrome Association of Connecticut":MAILTO:info@mydsact.org
LOCATION:https://mydsact.org/event/planning-for-special-needs/
END:VEVENT
BEGIN:VEVENT
DTSTART;TZID=America/New_York:20250321T090000
DTEND;TZID=America/New_York:20250321T170000
DTSTAMP:20260425T105353
CREATED:20250305T174758Z
LAST-MODIFIED:20250305T174758Z
UID:10000443-1742547600-1742576400@mydsact.org
SUMMARY:World Down Syndrome Day Breakfast
DESCRIPTION:Join us to start the day with some fresh bagels and coffee. \nMore information in the event flyer.
URL:https://mydsact.org/event/world-down-syndrome-day-breakfast/
LOCATION:Cosmo’s Bagels & Cafe\, 78 Heights Road\, Darien\, CT\, 06820\, United States
CATEGORIES:World Down Syndrome Day
END:VEVENT
BEGIN:VEVENT
DTSTART;TZID=America/New_York:20250323T150000
DTEND;TZID=America/New_York:20250323T170000
DTSTAMP:20260425T105353
CREATED:20250305T174005Z
LAST-MODIFIED:20250311T163725Z
UID:10000441-1742742000-1742749200@mydsact.org
SUMMARY:World Down Syndrome Day Celebration
DESCRIPTION:Join us for a day of fun and celebration.  For more information\, check out the event flyer.
URL:https://mydsact.org/event/world-down-syndrome-day-celebration/
LOCATION:New Canaan YMCA\, 564 South Avenue\, New Canaan\, CT\, 06840\, United States
CATEGORIES:World Down Syndrome Day
ATTACH;FMTTYPE=image/png:https://mydsact.org/wp-content/uploads/2025/03/21-mARCH-2025.png
GEO:41.1288135;-73.4846716
X-APPLE-STRUCTURED-LOCATION;VALUE=URI;X-ADDRESS=New Canaan YMCA 564 South Avenue New Canaan CT 06840 United States;X-APPLE-RADIUS=500;X-TITLE=564 South Avenue:geo:-73.4846716,41.1288135
END:VEVENT
BEGIN:VEVENT
DTSTART;TZID=America/New_York:20250503T120000
DTEND;TZID=America/New_York:20250503T150000
DTSTAMP:20260425T105353
CREATED:20250430T201557Z
LAST-MODIFIED:20250430T201557Z
UID:10000447-1746273600-1746284400@mydsact.org
SUMMARY:2025 Spring Fling
DESCRIPTION:Join DS ACT for an afternoon of family fun!\nat the\nFortress City Church\n265 W Main Street\nNew Britain\, CT\n Complete Registration form to attend this event.
URL:https://mydsact.org/event/2025-spring-fling/
LOCATION:Fortress City Church\, 265 W. Main St\, New Britain\, CT\, 06052
ATTACH;FMTTYPE=image/png:https://mydsact.org/wp-content/uploads/2025/04/fling-Twitter-Post.png
ORGANIZER;CN="Down Syndrome Association of Connecticut":MAILTO:info@mydsact.org
END:VEVENT
BEGIN:VEVENT
DTSTART;TZID=America/New_York:20250719T110000
DTEND;TZID=America/New_York:20250719T150000
DTSTAMP:20260425T105353
CREATED:20250604T023947Z
LAST-MODIFIED:20250710T211232Z
UID:10000449-1752922800-1752937200@mydsact.org
SUMMARY:Annual Summer Picnic at Camp Harkness
DESCRIPTION:Join DS ACT at the beautiful beach at Camp Harness for a day of fun with friends and family.  We’ll provide a catered lunch\, live music\, and maybe a few games and crafts.  All you need to bring is your swimsuit\, sand toys\, and sunscreen! \nThis no-cost members-only event is a benefit of your DS ACT membership.  Your membership must be active to register.  If you are unsure of your status\, please email Shanon McCormick. \nRegistration has closed but if you are still interested\, please email Karen Sawyer at ksawyer@mydsact.org \n \n  \n 
URL:https://mydsact.org/event/annual-summer-picnic-at-camp-harkness/
LOCATION:Camp Harkness\, 301 Great Neck Rd (Rte 213)\, Waterford\, CT\, CT\, United States
GEO:41.6032207;-73.087749
X-APPLE-STRUCTURED-LOCATION;VALUE=URI;X-ADDRESS=Camp Harkness 301 Great Neck Rd (Rte 213) Waterford CT CT United States;X-APPLE-RADIUS=500;X-TITLE=301 Great Neck Rd (Rte 213):geo:-73.087749,41.6032207
END:VEVENT
END:VCALENDAR