BEGIN:VCALENDAR
VERSION:2.0
PRODID:-//DS ACT - ECPv6.15.20//NONSGML v1.0//EN
CALSCALE:GREGORIAN
METHOD:PUBLISH
X-WR-CALNAME:DS ACT
X-ORIGINAL-URL:https://mydsact.org
X-WR-CALDESC:Events for DS ACT
REFRESH-INTERVAL;VALUE=DURATION:PT1H
X-Robots-Tag:noindex
X-PUBLISHED-TTL:PT1H
BEGIN:VTIMEZONE
TZID:America/New_York
BEGIN:DAYLIGHT
TZOFFSETFROM:-0500
TZOFFSETTO:-0400
TZNAME:EDT
DTSTART:20130310T070000
END:DAYLIGHT
BEGIN:STANDARD
TZOFFSETFROM:-0400
TZOFFSETTO:-0500
TZNAME:EST
DTSTART:20131103T060000
END:STANDARD
BEGIN:DAYLIGHT
TZOFFSETFROM:-0500
TZOFFSETTO:-0400
TZNAME:EDT
DTSTART:20140309T070000
END:DAYLIGHT
BEGIN:STANDARD
TZOFFSETFROM:-0400
TZOFFSETTO:-0500
TZNAME:EST
DTSTART:20141102T060000
END:STANDARD
BEGIN:DAYLIGHT
TZOFFSETFROM:-0500
TZOFFSETTO:-0400
TZNAME:EDT
DTSTART:20150308T070000
END:DAYLIGHT
BEGIN:STANDARD
TZOFFSETFROM:-0400
TZOFFSETTO:-0500
TZNAME:EST
DTSTART:20151101T060000
END:STANDARD
BEGIN:DAYLIGHT
TZOFFSETFROM:-0500
TZOFFSETTO:-0400
TZNAME:EDT
DTSTART:20160313T070000
END:DAYLIGHT
BEGIN:STANDARD
TZOFFSETFROM:-0400
TZOFFSETTO:-0500
TZNAME:EST
DTSTART:20161106T060000
END:STANDARD
END:VTIMEZONE
BEGIN:VEVENT
DTSTART;TZID=America/New_York:20150917T160000
DTEND;TZID=America/New_York:20150917T190000
DTSTAMP:20260425T100048
CREATED:20150727T172355Z
LAST-MODIFIED:20150727T172355Z
UID:10000030-1442505600-1442516400@mydsact.org
SUMMARY:DDS West Region Regional Advisory & Planning Council Public Meeting
DESCRIPTION:DDS Regional Advisory and Planning Council (RAC) Meetings\n\n\nThese meetings take place in every region six times a year.  Their purpose is to advise Regional Directors on the needs of persons with intellectual disability within the region.  They are open the the public and attended by Regional Directors. Families and self-advocates who receive DDS services are strongly encouraged to attend.  Many families have found these meetings to be helpful in obtaining information and for opening the lines of communication between Regional Directors and families.
URL:https://mydsact.org/event/dds-west-region-regional-advisory-planning-council-public-meeting/
END:VEVENT
BEGIN:VEVENT
DTSTART;TZID=America/New_York:20150916T180000
DTEND;TZID=America/New_York:20150916T210000
DTSTAMP:20260425T100048
CREATED:20150727T171554Z
LAST-MODIFIED:20150727T171554Z
UID:10000016-1442426400-1442437200@mydsact.org
SUMMARY:DDS South Region Regional Advisory & Planning Council Public Meeting
DESCRIPTION:DDS Regional Advisory and Planning Council (RAC) Meetings\n\n\nThese meetings take place in every region six times a year.  Their purpose is to advise Regional Directors on the needs of persons with intellectual disability within the region.  They are open the the public and attended by Regional Directors. Families and self-advocates who receive DDS services are strongly encouraged to attend.  Many families have found these meetings to be helpful in obtaining information and for opening the lines of communication between Regional Directors and families.
URL:https://mydsact.org/event/dds-south-region-regional-advisory-planning-council-public-meeting/
LOCATION:Henry Carter Hull Library\, 10 Killingworth Turnpike\, Clinton\, CT\, United States
GEO:41.291034;-72.5306339
X-APPLE-STRUCTURED-LOCATION;VALUE=URI;X-ADDRESS=Henry Carter Hull Library 10 Killingworth Turnpike Clinton CT United States;X-APPLE-RADIUS=500;X-TITLE=10 Killingworth Turnpike:geo:-72.5306339,41.291034
END:VEVENT
BEGIN:VEVENT
DTSTART;TZID=America/New_York:20150916T180000
DTEND;TZID=America/New_York:20150916T200000
DTSTAMP:20260425T100048
CREATED:20150727T173242Z
LAST-MODIFIED:20150727T173242Z
UID:10000014-1442426400-1442433600@mydsact.org
SUMMARY:DDS North Region Regional Advisory & Planning Council Public Meeting
DESCRIPTION:DDS Regional Advisory and Planning Council (RAC) Meetings\n\n\nThese meetings take place in every region six times a year.  Their purpose is to advise Regional Directors on the needs of persons with intellectual disability within the region.  They are open the the public and attended by Regional Directors. Families and self-advocates who receive DDS services are strongly encouraged to attend.  Many families have found these meetings to be helpful in obtaining information and for opening the lines of communication between Regional Directors and families.
URL:https://mydsact.org/event/dds-north-region-regional-advisory-planning-council-public-meeting/
END:VEVENT
BEGIN:VEVENT
DTSTART;VALUE=DATE:20150811
DTEND;VALUE=DATE:20150814
DTSTAMP:20260425T100048
CREATED:20150727T162838Z
LAST-MODIFIED:20150727T162838Z
UID:10000012-1439251200-1439510399@mydsact.org
SUMMARY:Three Day Institute on Educating Children with Down Syndrome in Inclusive Settings
DESCRIPTION:This series of 3-hour workshops is geared to prepare professionals and families to meet\nthe needs of children with Down syndrome in inclusive settings. Individual workshops\naddress programming for early intervention\, pre-school aged\, elementary aged and middle/\nhigh school programming. Two additional workshops address communication and the\nfunctional assessment process and developing a positive behavior support plan.  Held at: Liu Post – Humanities Bldg.\, Room 119     **You can attend one or more sessions** \n  \n**Group Rates are Available**\nIndividual sessions are $45.00\nTWO sessions: cost is reduced to 75.00\nFOUR sessions: cost is reduced to 125.00\nSIX sessions: cost is reduced to 175.00
URL:https://mydsact.org/event/three-day-institute-on-educating-children-with-down-syndrome-in-inclusive-settings/
ORGANIZER;CN="":MAILTO:Post-CCI@liu.edu
END:VEVENT
BEGIN:VEVENT
DTSTART;TZID=America/New_York:20150810T180000
DTEND;TZID=America/New_York:20150810T210000
DTSTAMP:20260425T100048
CREATED:20150727T164140Z
LAST-MODIFIED:20150727T164140Z
UID:10000007-1439229600-1439240400@mydsact.org
SUMMARY:Caleb's Quest Buddy Walk Team Fundraiser @ Sweet Frog Frozen Yogurt
DESCRIPTION:Caleb’s Quest Buddy Walk Team with be holding their first fundraiser for the “2015 Buddy Walk” at Sweet Frog in Manchester.  Connecticut Down Syndrome Congress will receive 10% of all sales.
URL:https://mydsact.org/event/calebs-quest-buddy-walk-team-fundraiser-sweet-frog-frozen-yogurt/
LOCATION:Sweet Frog Premium Frozen Yogurt\, 1500 Pleasant Valley Road\, Manchester\, CT\, United States
GEO:41.8066381;-72.5582782
X-APPLE-STRUCTURED-LOCATION;VALUE=URI;X-ADDRESS=Sweet Frog Premium Frozen Yogurt 1500 Pleasant Valley Road Manchester CT United States;X-APPLE-RADIUS=500;X-TITLE=1500 Pleasant Valley Road:geo:-72.5582782,41.8066381
END:VEVENT
BEGIN:VEVENT
DTSTART;TZID=America/New_York:20150725T110000
DTEND;TZID=America/New_York:20150725T150000
DTSTAMP:20260425T100048
CREATED:20150704T193040Z
LAST-MODIFIED:20231023T172942Z
UID:10000011-1437822000-1437836400@mydsact.org
SUMMARY:2015 Annual Summer Picnic
DESCRIPTION:This event is a benefit of membership in the CDSC!  Members may bring any number of family members\, but prior registration is required.  Email info@ctdownsyndrome.org for the online registration link.
URL:https://mydsact.org/event/2015-annual-summer-picnic/
LOCATION:Camp Harkness\, 301 Great Neck Rd (Rte 213)\, Waterford\, CT\, CT\, United States
GEO:41.6032207;-73.087749
X-APPLE-STRUCTURED-LOCATION;VALUE=URI;X-ADDRESS=Camp Harkness 301 Great Neck Rd (Rte 213) Waterford CT CT United States;X-APPLE-RADIUS=500;X-TITLE=301 Great Neck Rd (Rte 213):geo:-73.087749,41.6032207
END:VEVENT
BEGIN:VEVENT
DTSTART;VALUE=DATE:20141108
DTEND;VALUE=DATE:20141109
DTSTAMP:20260425T100048
CREATED:20140729T164704Z
LAST-MODIFIED:20140729T164704Z
UID:10000004-1415404800-1415491199@mydsact.org
SUMMARY:2014 CDSC Annual Convention
DESCRIPTION:
URL:https://mydsact.org/event/2014-cdsc-annual-convention/
LOCATION:Water’s Edge Resort\, 1525 Boston Post Rd\, Westbrook\, 06498
GEO:41.280791;-72.4365309
X-APPLE-STRUCTURED-LOCATION;VALUE=URI;X-ADDRESS=Water’s Edge Resort 1525 Boston Post Rd Westbrook 06498;X-APPLE-RADIUS=500;X-TITLE=1525 Boston Post Rd:geo:-72.4365309,41.280791
END:VEVENT
BEGIN:VEVENT
DTSTART;TZID=America/New_York:20140927T000000
DTEND;TZID=America/New_York:20140927T150000
DTSTAMP:20260425T100048
CREATED:20140729T152836Z
LAST-MODIFIED:20231023T173402Z
UID:10000048-1411776000-1411830000@mydsact.org
SUMMARY:2014 CDSC Buddy Walk
DESCRIPTION:An Afternoon of Family Fun to Raise Awareness of Down Syndrome!\nDJ — Bouncy Houses — Arcade Games — Valentine the Clown — Mad Science — Premier Photo Booth\n  \n \nClick Here to Register as an Individual or a Team\, or Make a Donation Today! \n A team of five or more — $100 (includes two official t-shirts) \nIndividual Walker — $25 (includes one official t-shirt) \nVirtual Walker (I can’t be there that day\, but I want to support the CDSC!) — $10 \nThe Buddy Walk® kicks off Down Syndrome Awareness Month in October and promotes acceptance and inclusion of people with Down syndrome. Nearly 300 walks around the world raise money to benefit local and national service and advocacy programs. \nIn Connecticut\, we support and educate new parents of babies with Down syndrome through our First Call program\, we help fund medical clinics at St. Raphael’s and the Connecticut Children’s Medical Center\, and we educate about best practices in education\, medicine and therapeutic intervention. \n 
URL:https://mydsact.org/event/2014-cdsc-buddy-walk/
LOCATION:Hammonasset Beach State Park\, 1288 Boston Post Rd.\, Madison\, CT\, 06443
GEO:41.2697656;-72.5590716
X-APPLE-STRUCTURED-LOCATION;VALUE=URI;X-ADDRESS=Hammonasset Beach State Park 1288 Boston Post Rd. Madison CT 06443;X-APPLE-RADIUS=500;X-TITLE=1288 Boston Post Rd.:geo:-72.5590716,41.2697656
END:VEVENT
BEGIN:VEVENT
DTSTART;TZID=America/New_York:20140817T133500
DTEND;TZID=America/New_York:20140817T170000
DTSTAMP:20260425T100048
CREATED:20140729T163020Z
LAST-MODIFIED:20231023T173454Z
UID:10000047-1408282500-1408294800@mydsact.org
SUMMARY:Rock Cats Baseball
DESCRIPTION:A CDSC Members’ Event! \nJoin the CDSC for a Rock Cats baseball game in New Britain\n \nSunday\, August 17th\, 1:35 pm\n \nKids get to run the bases after the game!\n \nFor paid members\, first four tickets free\, $3.00 per ticket for each additional ticket.  No limit on the number of tickets you can purchase.  One Fun Zone wristband per family; additional bands can be purchased  for $5.00 each.  The Fun Zone is open for an hour before the game.\n\n\nRegister and/or purchase tickets here.\n  \n\n Last day to purchase is August 10th.\n \nWe will be seated together in the general admissions section.\n \nStandard parking fee is $5/car\, with some premium $7 spots available.  The Rock Cats recommend early arrival!  Driving directions and more detailed information regarding parking available here.
URL:https://mydsact.org/event/rock-cats-baseball/
END:VEVENT
END:VCALENDAR