BEGIN:VCALENDAR
VERSION:2.0
PRODID:-//DS ACT - ECPv6.15.20//NONSGML v1.0//EN
CALSCALE:GREGORIAN
METHOD:PUBLISH
X-WR-CALNAME:DS ACT
X-ORIGINAL-URL:https://mydsact.org
X-WR-CALDESC:Events for DS ACT
REFRESH-INTERVAL;VALUE=DURATION:PT1H
X-Robots-Tag:noindex
X-PUBLISHED-TTL:PT1H
BEGIN:VTIMEZONE
TZID:America/New_York
BEGIN:DAYLIGHT
TZOFFSETFROM:-0500
TZOFFSETTO:-0400
TZNAME:EDT
DTSTART:20230312T070000
END:DAYLIGHT
BEGIN:STANDARD
TZOFFSETFROM:-0400
TZOFFSETTO:-0500
TZNAME:EST
DTSTART:20231105T060000
END:STANDARD
BEGIN:DAYLIGHT
TZOFFSETFROM:-0500
TZOFFSETTO:-0400
TZNAME:EDT
DTSTART:20240310T070000
END:DAYLIGHT
BEGIN:STANDARD
TZOFFSETFROM:-0400
TZOFFSETTO:-0500
TZNAME:EST
DTSTART:20241103T060000
END:STANDARD
BEGIN:DAYLIGHT
TZOFFSETFROM:-0500
TZOFFSETTO:-0400
TZNAME:EDT
DTSTART:20250309T070000
END:DAYLIGHT
BEGIN:STANDARD
TZOFFSETFROM:-0400
TZOFFSETTO:-0500
TZNAME:EST
DTSTART:20251102T060000
END:STANDARD
BEGIN:DAYLIGHT
TZOFFSETFROM:-0500
TZOFFSETTO:-0400
TZNAME:EDT
DTSTART:20260308T070000
END:DAYLIGHT
BEGIN:STANDARD
TZOFFSETFROM:-0400
TZOFFSETTO:-0500
TZNAME:EST
DTSTART:20261101T060000
END:STANDARD
END:VTIMEZONE
BEGIN:VEVENT
DTSTART;TZID=America/New_York:20250313T093000
DTEND;TZID=America/New_York:20250313T233000
DTSTAMP:20260423T165353
CREATED:20250311T163205Z
LAST-MODIFIED:20250311T170235Z
UID:10000445-1741858200-1741908600@mydsact.org
SUMMARY:Coffee Meet Up
DESCRIPTION:Join DS ACT at Beanz & Co in Avon for some coffee and conversation.  Some members of our Education and Outreach Committee will have a table set up in honor of World Down Syndrome Day.  Stop by and say hi\, get some ideas on how you can celebrate.
URL:https://mydsact.org/event/coffee-meet-up/
LOCATION:BeanZ & Co.\, 11 East Main Street\, Avon\, CT\, 06001\, United States
CATEGORIES:Education and Outreach,World Down Syndrome Day
ATTACH;FMTTYPE=image/png:https://mydsact.org/wp-content/uploads/2025/03/Coffee.png
ORGANIZER;CN="Down Syndrome Association of Connecticut":MAILTO:info@mydsact.org
END:VEVENT
BEGIN:VEVENT
DTSTART;TZID=America/New_York:20240327T080000
DTEND;TZID=America/New_York:20240327T160000
DTSTAMP:20260423T165353
CREATED:20240306T173517Z
LAST-MODIFIED:20240326T223557Z
UID:10000074-1711526400-1711555200@mydsact.org
SUMMARY:Raise a Cup to Awareness
DESCRIPTION:Just stop at BeanZ & Co. in Avon and grab a beverage to help us raise awareness  about Down syndrome and DS ACT’s mission.  Keep an eye on Social Media for specific dates for “meet ups.”
URL:https://mydsact.org/event/raise-a-cup-to-awareness/2024-03-27/
LOCATION:BeanZ & Co.\, 11 East Main Street\, Avon\, CT\, 06001\, United States
ATTACH;FMTTYPE=image/png:https://mydsact.org/wp-content/uploads/2023/10/Coffee-Graphic.png
END:VEVENT
BEGIN:VEVENT
DTSTART;TZID=America/New_York:20240326T080000
DTEND;TZID=America/New_York:20240326T160000
DTSTAMP:20260423T165353
CREATED:20240306T173517Z
LAST-MODIFIED:20240326T223557Z
UID:10000073-1711440000-1711468800@mydsact.org
SUMMARY:Raise a Cup to Awareness
DESCRIPTION:Just stop at BeanZ & Co. in Avon and grab a beverage to help us raise awareness  about Down syndrome and DS ACT’s mission.  Keep an eye on Social Media for specific dates for “meet ups.”
URL:https://mydsact.org/event/raise-a-cup-to-awareness/2024-03-26/
LOCATION:BeanZ & Co.\, 11 East Main Street\, Avon\, CT\, 06001\, United States
ATTACH;FMTTYPE=image/png:https://mydsact.org/wp-content/uploads/2023/10/Coffee-Graphic.png
END:VEVENT
BEGIN:VEVENT
DTSTART;TZID=America/New_York:20240325T080000
DTEND;TZID=America/New_York:20240325T160000
DTSTAMP:20260423T165353
CREATED:20240306T173517Z
LAST-MODIFIED:20240326T223557Z
UID:10000072-1711353600-1711382400@mydsact.org
SUMMARY:Raise a Cup to Awareness
DESCRIPTION:Just stop at BeanZ & Co. in Avon and grab a beverage to help us raise awareness  about Down syndrome and DS ACT’s mission.  Keep an eye on Social Media for specific dates for “meet ups.”
URL:https://mydsact.org/event/raise-a-cup-to-awareness/2024-03-25/
LOCATION:BeanZ & Co.\, 11 East Main Street\, Avon\, CT\, 06001\, United States
ATTACH;FMTTYPE=image/png:https://mydsact.org/wp-content/uploads/2023/10/Coffee-Graphic.png
END:VEVENT
BEGIN:VEVENT
DTSTART;TZID=America/New_York:20240324T080000
DTEND;TZID=America/New_York:20240324T160000
DTSTAMP:20260423T165353
CREATED:20240306T173517Z
LAST-MODIFIED:20240326T223557Z
UID:10000071-1711267200-1711296000@mydsact.org
SUMMARY:Raise a Cup to Awareness
DESCRIPTION:Just stop at BeanZ & Co. in Avon and grab a beverage to help us raise awareness  about Down syndrome and DS ACT’s mission.  Keep an eye on Social Media for specific dates for “meet ups.”
URL:https://mydsact.org/event/raise-a-cup-to-awareness/2024-03-24/
LOCATION:BeanZ & Co.\, 11 East Main Street\, Avon\, CT\, 06001\, United States
ATTACH;FMTTYPE=image/png:https://mydsact.org/wp-content/uploads/2023/10/Coffee-Graphic.png
END:VEVENT
BEGIN:VEVENT
DTSTART;TZID=America/New_York:20240323T080000
DTEND;TZID=America/New_York:20240323T160000
DTSTAMP:20260423T165353
CREATED:20240306T173517Z
LAST-MODIFIED:20240326T223557Z
UID:10000070-1711180800-1711209600@mydsact.org
SUMMARY:Raise a Cup to Awareness
DESCRIPTION:Just stop at BeanZ & Co. in Avon and grab a beverage to help us raise awareness  about Down syndrome and DS ACT’s mission.  Keep an eye on Social Media for specific dates for “meet ups.”
URL:https://mydsact.org/event/raise-a-cup-to-awareness/2024-03-23/
LOCATION:BeanZ & Co.\, 11 East Main Street\, Avon\, CT\, 06001\, United States
ATTACH;FMTTYPE=image/png:https://mydsact.org/wp-content/uploads/2023/10/Coffee-Graphic.png
END:VEVENT
BEGIN:VEVENT
DTSTART;TZID=America/New_York:20240322T080000
DTEND;TZID=America/New_York:20240322T160000
DTSTAMP:20260423T165353
CREATED:20240306T173517Z
LAST-MODIFIED:20240326T223557Z
UID:10000069-1711094400-1711123200@mydsact.org
SUMMARY:Raise a Cup to Awareness
DESCRIPTION:Just stop at BeanZ & Co. in Avon and grab a beverage to help us raise awareness  about Down syndrome and DS ACT’s mission.  Keep an eye on Social Media for specific dates for “meet ups.”
URL:https://mydsact.org/event/raise-a-cup-to-awareness/2024-03-22/
LOCATION:BeanZ & Co.\, 11 East Main Street\, Avon\, CT\, 06001\, United States
ATTACH;FMTTYPE=image/png:https://mydsact.org/wp-content/uploads/2023/10/Coffee-Graphic.png
END:VEVENT
BEGIN:VEVENT
DTSTART;TZID=America/New_York:20240321T080000
DTEND;TZID=America/New_York:20240321T160000
DTSTAMP:20260423T165353
CREATED:20240306T173517Z
LAST-MODIFIED:20240326T223557Z
UID:10000068-1711008000-1711036800@mydsact.org
SUMMARY:Raise a Cup to Awareness
DESCRIPTION:Just stop at BeanZ & Co. in Avon and grab a beverage to help us raise awareness  about Down syndrome and DS ACT’s mission.  Keep an eye on Social Media for specific dates for “meet ups.”
URL:https://mydsact.org/event/raise-a-cup-to-awareness/2024-03-21/
LOCATION:BeanZ & Co.\, 11 East Main Street\, Avon\, CT\, 06001\, United States
ATTACH;FMTTYPE=image/png:https://mydsact.org/wp-content/uploads/2023/10/Coffee-Graphic.png
END:VEVENT
BEGIN:VEVENT
DTSTART;TZID=America/New_York:20240320T080000
DTEND;TZID=America/New_York:20240320T160000
DTSTAMP:20260423T165353
CREATED:20240306T173517Z
LAST-MODIFIED:20240326T223557Z
UID:10000067-1710921600-1710950400@mydsact.org
SUMMARY:Raise a Cup to Awareness
DESCRIPTION:Just stop at BeanZ & Co. in Avon and grab a beverage to help us raise awareness  about Down syndrome and DS ACT’s mission.  Keep an eye on Social Media for specific dates for “meet ups.”
URL:https://mydsact.org/event/raise-a-cup-to-awareness/2024-03-20/
LOCATION:BeanZ & Co.\, 11 East Main Street\, Avon\, CT\, 06001\, United States
ATTACH;FMTTYPE=image/png:https://mydsact.org/wp-content/uploads/2023/10/Coffee-Graphic.png
END:VEVENT
BEGIN:VEVENT
DTSTART;TZID=America/New_York:20240319T080000
DTEND;TZID=America/New_York:20240319T160000
DTSTAMP:20260423T165353
CREATED:20240306T173517Z
LAST-MODIFIED:20240326T223557Z
UID:10000066-1710835200-1710864000@mydsact.org
SUMMARY:Raise a Cup to Awareness
DESCRIPTION:Just stop at BeanZ & Co. in Avon and grab a beverage to help us raise awareness  about Down syndrome and DS ACT’s mission.  Keep an eye on Social Media for specific dates for “meet ups.”
URL:https://mydsact.org/event/raise-a-cup-to-awareness/2024-03-19/
LOCATION:BeanZ & Co.\, 11 East Main Street\, Avon\, CT\, 06001\, United States
ATTACH;FMTTYPE=image/png:https://mydsact.org/wp-content/uploads/2023/10/Coffee-Graphic.png
END:VEVENT
BEGIN:VEVENT
DTSTART;TZID=America/New_York:20240318T080000
DTEND;TZID=America/New_York:20240318T160000
DTSTAMP:20260423T165353
CREATED:20240306T173517Z
LAST-MODIFIED:20240326T223557Z
UID:10000065-1710748800-1710777600@mydsact.org
SUMMARY:Raise a Cup to Awareness
DESCRIPTION:Just stop at BeanZ & Co. in Avon and grab a beverage to help us raise awareness  about Down syndrome and DS ACT’s mission.  Keep an eye on Social Media for specific dates for “meet ups.”
URL:https://mydsact.org/event/raise-a-cup-to-awareness/2024-03-18/
LOCATION:BeanZ & Co.\, 11 East Main Street\, Avon\, CT\, 06001\, United States
ATTACH;FMTTYPE=image/png:https://mydsact.org/wp-content/uploads/2023/10/Coffee-Graphic.png
END:VEVENT
BEGIN:VEVENT
DTSTART;TZID=America/New_York:20240316T080000
DTEND;TZID=America/New_York:20240316T160000
DTSTAMP:20260423T165353
CREATED:20240306T173517Z
LAST-MODIFIED:20240326T223557Z
UID:10000064-1710576000-1710604800@mydsact.org
SUMMARY:Raise a Cup to Awareness
DESCRIPTION:Just stop at BeanZ & Co. in Avon and grab a beverage to help us raise awareness  about Down syndrome and DS ACT’s mission.  Keep an eye on Social Media for specific dates for “meet ups.”
URL:https://mydsact.org/event/raise-a-cup-to-awareness/2024-03-16/
LOCATION:BeanZ & Co.\, 11 East Main Street\, Avon\, CT\, 06001\, United States
ATTACH;FMTTYPE=image/png:https://mydsact.org/wp-content/uploads/2023/10/Coffee-Graphic.png
END:VEVENT
END:VCALENDAR