BEGIN:VCALENDAR
VERSION:2.0
PRODID:-//DS ACT - ECPv6.15.20//NONSGML v1.0//EN
CALSCALE:GREGORIAN
METHOD:PUBLISH
X-WR-CALNAME:DS ACT
X-ORIGINAL-URL:https://mydsact.org
X-WR-CALDESC:Events for DS ACT
REFRESH-INTERVAL;VALUE=DURATION:PT1H
X-Robots-Tag:noindex
X-PUBLISHED-TTL:PT1H
BEGIN:VTIMEZONE
TZID:America/New_York
BEGIN:DAYLIGHT
TZOFFSETFROM:-0500
TZOFFSETTO:-0400
TZNAME:EDT
DTSTART:20180311T070000
END:DAYLIGHT
BEGIN:STANDARD
TZOFFSETFROM:-0400
TZOFFSETTO:-0500
TZNAME:EST
DTSTART:20181104T060000
END:STANDARD
BEGIN:DAYLIGHT
TZOFFSETFROM:-0500
TZOFFSETTO:-0400
TZNAME:EDT
DTSTART:20190310T070000
END:DAYLIGHT
BEGIN:STANDARD
TZOFFSETFROM:-0400
TZOFFSETTO:-0500
TZNAME:EST
DTSTART:20191103T060000
END:STANDARD
BEGIN:DAYLIGHT
TZOFFSETFROM:-0500
TZOFFSETTO:-0400
TZNAME:EDT
DTSTART:20200308T070000
END:DAYLIGHT
BEGIN:STANDARD
TZOFFSETFROM:-0400
TZOFFSETTO:-0500
TZNAME:EST
DTSTART:20201101T060000
END:STANDARD
BEGIN:DAYLIGHT
TZOFFSETFROM:-0500
TZOFFSETTO:-0400
TZNAME:EDT
DTSTART:20210314T070000
END:DAYLIGHT
BEGIN:STANDARD
TZOFFSETFROM:-0400
TZOFFSETTO:-0500
TZNAME:EST
DTSTART:20211107T060000
END:STANDARD
BEGIN:DAYLIGHT
TZOFFSETFROM:-0500
TZOFFSETTO:-0400
TZNAME:EDT
DTSTART:20220313T070000
END:DAYLIGHT
BEGIN:STANDARD
TZOFFSETFROM:-0400
TZOFFSETTO:-0500
TZNAME:EST
DTSTART:20221106T060000
END:STANDARD
BEGIN:DAYLIGHT
TZOFFSETFROM:-0500
TZOFFSETTO:-0400
TZNAME:EDT
DTSTART:20230312T070000
END:DAYLIGHT
BEGIN:STANDARD
TZOFFSETFROM:-0400
TZOFFSETTO:-0500
TZNAME:EST
DTSTART:20231105T060000
END:STANDARD
BEGIN:DAYLIGHT
TZOFFSETFROM:-0500
TZOFFSETTO:-0400
TZNAME:EDT
DTSTART:20240310T070000
END:DAYLIGHT
BEGIN:STANDARD
TZOFFSETFROM:-0400
TZOFFSETTO:-0500
TZNAME:EST
DTSTART:20241103T060000
END:STANDARD
BEGIN:DAYLIGHT
TZOFFSETFROM:-0500
TZOFFSETTO:-0400
TZNAME:EDT
DTSTART:20250309T070000
END:DAYLIGHT
BEGIN:STANDARD
TZOFFSETFROM:-0400
TZOFFSETTO:-0500
TZNAME:EST
DTSTART:20251102T060000
END:STANDARD
BEGIN:DAYLIGHT
TZOFFSETFROM:-0500
TZOFFSETTO:-0400
TZNAME:EDT
DTSTART:20260308T070000
END:DAYLIGHT
BEGIN:STANDARD
TZOFFSETFROM:-0400
TZOFFSETTO:-0500
TZNAME:EST
DTSTART:20261101T060000
END:STANDARD
END:VTIMEZONE
BEGIN:VEVENT
DTSTART;TZID=America/New_York:20251004T100000
DTEND;TZID=America/New_York:20251004T140000
DTSTAMP:20260424T010631
CREATED:20250124T194718Z
LAST-MODIFIED:20250501T155355Z
UID:10000440-1759572000-1759586400@mydsact.org
SUMMARY:Step Up for Down Syndrome Walk & Block Party
DESCRIPTION:We cannot wait for this year’s Step Up for Down Syndrome Walk! It’s not just a walk\, it’s a party celebrating loved ones with Down syndrome.
URL:https://mydsact.org/event/step-up-for-down-syndrome-walk-block-party/
LOCATION:New Britain Stadium\, 230 John Karbonic Way\, New Britain\, Connecticut\, 06051
CATEGORIES:DS ACT
ATTACH;FMTTYPE=image/png:https://mydsact.org/wp-content/uploads/2025/01/Registration-Opening-Post.png
ORGANIZER;CN="Down Syndrome Association of Connecticut":MAILTO:info@mydsact.org
END:VEVENT
BEGIN:VEVENT
DTSTART;TZID=America/New_York:20211002T100000
DTEND;TZID=America/New_York:20211002T140000
DTSTAMP:20260424T010631
CREATED:20210617T183440Z
LAST-MODIFIED:20210617T183440Z
UID:10000018-1633168800-1633183200@mydsact.org
SUMMARY:Step Up for Down Syndrome Walk
DESCRIPTION:It’s time to Step Up for Down Syndrome!  Join our friends and families as we kick off National Down Syndrome Awareness Month with a celebration of our community. \nForm a team\, join a team\, or walk on your own — everyone is invited.   Enjoy a great day of family-centered fun that includes bounce houses\, games\, dancing\, and food.  And did we mention our community? \nThis event is open to the public. Everyone is a friend at the Step Up Walk!   Pre-registration is preferred\, but on-site registration will be available. \nRegister\, Donate or Find out More
URL:https://mydsact.org/event/step-up-for-down-syndrome-walk-2/
LOCATION:New Britain Stadium\, 230 John Karbonic Way\, New Britain\, Connecticut\, 06051
ATTACH;FMTTYPE=image/jpeg:https://mydsact.org/wp-content/uploads/2021/05/Step-Up-Logo.jpg
END:VEVENT
BEGIN:VEVENT
DTSTART;TZID=America/New_York:20210805T183500
DTEND;TZID=America/New_York:20210805T203000
DTSTAMP:20260424T010631
CREATED:20210617T180426Z
LAST-MODIFIED:20210617T181650Z
UID:10000028-1628188500-1628195400@mydsact.org
SUMMARY:DS ACT Night at the New Britain Bees Stadium
DESCRIPTION:Worcester Bravehearts vs. the New Britain Bees\n\nCatch up with friends and warm-up for the October 2nd Step Up Walk when you take yourself and your loved ones out to the ballgame for DS ACT Night!. \nStop by our table in the concourse for a warm welcome and be sure to wow the crowd with your DS ACT shirt\, a walk shirt\, or our blue and yellow colors.    A lucky DS ACT member will have the honor of throwing out the first pitch! \nFor more information\, email Melody Lehrman at mlehrman@mydsact.org.
URL:https://mydsact.org/event/dsact-night-new-britain/
LOCATION:New Britain Stadium\, 230 John Karbonic Way\, New Britain\, Connecticut\, 06051
ATTACH;FMTTYPE=image/jpeg:https://mydsact.org/wp-content/uploads/2021/06/Ballpark-web-.jpeg
END:VEVENT
BEGIN:VEVENT
DTSTART;TZID=America/New_York:20190928T100000
DTEND;TZID=America/New_York:20190928T140000
DTSTAMP:20260424T010631
CREATED:20190817T233423Z
LAST-MODIFIED:20231023T162205Z
UID:10000024-1569664800-1569679200@mydsact.org
SUMMARY:Connecticut Buddy Walk: Stepping Up for Down Syndrome
DESCRIPTION:We’re ready for fun — how about you?\nTake a short walk to help us raise awareness about Down syndrome!\nEnjoy family-friendly entertainment including\, a DJ and dancing\, bounce houses\, face painting\, crafts\, games\, a touch-a-truck display\, food trucks and more.\n\nJoin a team\, start a team\, or make a donation.   Registration and additional information available at Connecticut Buddy Walk\n\n\n\n\n\n\n\n 
URL:https://mydsact.org/event/connecticut-buddy-walk-stepping-up-for-down-syndrome/
LOCATION:New Britain Stadium\, 230 John Karbonic Way\, New Britain\, Connecticut\, 06051
END:VEVENT
END:VCALENDAR