BEGIN:VCALENDAR
VERSION:2.0
PRODID:-//DS ACT - ECPv6.15.20//NONSGML v1.0//EN
CALSCALE:GREGORIAN
METHOD:PUBLISH
X-ORIGINAL-URL:https://mydsact.org
X-WR-CALDESC:Events for DS ACT
REFRESH-INTERVAL;VALUE=DURATION:PT1H
X-Robots-Tag:noindex
X-PUBLISHED-TTL:PT1H
BEGIN:VTIMEZONE
TZID:America/New_York
BEGIN:DAYLIGHT
TZOFFSETFROM:-0500
TZOFFSETTO:-0400
TZNAME:EDT
DTSTART:20190310T070000
END:DAYLIGHT
BEGIN:STANDARD
TZOFFSETFROM:-0400
TZOFFSETTO:-0500
TZNAME:EST
DTSTART:20191103T060000
END:STANDARD
BEGIN:DAYLIGHT
TZOFFSETFROM:-0500
TZOFFSETTO:-0400
TZNAME:EDT
DTSTART:20200308T070000
END:DAYLIGHT
BEGIN:STANDARD
TZOFFSETFROM:-0400
TZOFFSETTO:-0500
TZNAME:EST
DTSTART:20201101T060000
END:STANDARD
BEGIN:DAYLIGHT
TZOFFSETFROM:-0500
TZOFFSETTO:-0400
TZNAME:EDT
DTSTART:20210314T070000
END:DAYLIGHT
BEGIN:STANDARD
TZOFFSETFROM:-0400
TZOFFSETTO:-0500
TZNAME:EST
DTSTART:20211107T060000
END:STANDARD
END:VTIMEZONE
BEGIN:VEVENT
DTSTART;TZID=America/New_York:20200321T143000
DTEND;TZID=America/New_York:20200321T161500
DTSTAMP:20260423T231555
CREATED:20200309T163717Z
LAST-MODIFIED:20200312T231714Z
UID:10000050-1584801000-1584807300@mydsact.org
SUMMARY:Paint and Cupcake Party!
DESCRIPTION:Let your inner artist out and enjoy a tasty snack to celebrate World Down Syndrome Day!
URL:https://mydsact.org/event/paint-and-cupcake-party/
LOCATION:Wonderland Parties\, 915 Sullivan Ave\, South Windsor\, CT\, 06074\, United States
ATTACH;FMTTYPE=image/jpeg:https://mydsact.org/wp-content/uploads/2020/03/Paint-postponed.jpg
END:VEVENT
END:VCALENDAR